BEGIN:VCALENDAR
VERSION:2.0
PRODID:-//Sust Museum Horgen - ECPv6.15.20//NONSGML v1.0//EN
CALSCALE:GREGORIAN
METHOD:PUBLISH
X-WR-CALNAME:Sust Museum Horgen
X-ORIGINAL-URL:https://susthorgen.ch
X-WR-CALDESC:Veranstaltungen für Sust Museum Horgen
REFRESH-INTERVAL;VALUE=DURATION:PT1H
X-Robots-Tag:noindex
X-PUBLISHED-TTL:PT1H
BEGIN:VTIMEZONE
TZID:Europe/Zurich
BEGIN:DAYLIGHT
TZOFFSETFROM:+0100
TZOFFSETTO:+0200
TZNAME:CEST
DTSTART:20230326T010000
END:DAYLIGHT
BEGIN:STANDARD
TZOFFSETFROM:+0200
TZOFFSETTO:+0100
TZNAME:CET
DTSTART:20231029T010000
END:STANDARD
BEGIN:DAYLIGHT
TZOFFSETFROM:+0100
TZOFFSETTO:+0200
TZNAME:CEST
DTSTART:20240331T010000
END:DAYLIGHT
BEGIN:STANDARD
TZOFFSETFROM:+0200
TZOFFSETTO:+0100
TZNAME:CET
DTSTART:20241027T010000
END:STANDARD
BEGIN:DAYLIGHT
TZOFFSETFROM:+0100
TZOFFSETTO:+0200
TZNAME:CEST
DTSTART:20250330T010000
END:DAYLIGHT
BEGIN:STANDARD
TZOFFSETFROM:+0200
TZOFFSETTO:+0100
TZNAME:CET
DTSTART:20251026T010000
END:STANDARD
END:VTIMEZONE
BEGIN:VEVENT
DTSTART;TZID=Europe/Zurich:20240403T140000
DTEND;TZID=Europe/Zurich:20240403T160000
DTSTAMP:20260421T173017
CREATED:20231208T083348Z
LAST-MODIFIED:20240219T154823Z
UID:8169-1712152800-1712160000@susthorgen.ch
SUMMARY:Ausgraben unter Wasser
DESCRIPTION:Die Tauchequipe der Unterwasserarchäologie Zürich besucht die Sust und gibt Auskunft zu ihrer Arbeit unter Wasser. \n\n\n\nSeit mehr als einem halben Jahrhundert erforscht die Unterwasserarchäologie und Dendroarchäologie des Amts für Städtebau der Stadt Zürich Fundstellen\, die sonst nicht erreicht werden können: Das erfahrene Tauchteam nutzt damals wie heute modernste Vermessungs-\, Dokumentations- und Tauchtechnik\, um ganzjährig den am Seegrund verborgenen Pfahlbaudörfern auf die Spur zu kommen. \n\n\n\nBild: Drohnenaufnahme\, Übersicht über Aufsichtsboot und eingerichtetes Grabungsfeld\, ein Taucher bei der Arbeit (Aufnahme: Kantonsarchäologie Zürich)
URL:https://susthorgen.ch/event/ausgraben-unter-wasser-3/
LOCATION:Zürich
ATTACH;FMTTYPE=image/jpeg:https://susthorgen.ch/wp-content/uploads/2023/07/P44017-scaled.jpg
END:VEVENT
BEGIN:VEVENT
DTSTART;TZID=Europe/Zurich:20240409T183000
DTEND;TZID=Europe/Zurich:20240409T193000
DTSTAMP:20260421T173017
CREATED:20231208T083815Z
LAST-MODIFIED:20240219T154316Z
UID:8173-1712687400-1712691000@susthorgen.ch
SUMMARY:Expertenführung Baugeschichte
DESCRIPTION:Bauforscher und Stiftungsrat Dölf Wild nimmt Sie mit auf eine Zeitreise durch die bewegte Geschichte des Hauses und bringt Balken\, Türen und Böden zum Sprechen. \n\n\n\nDie Sust wirkt von aussen wie aus einem Guss gebaut\, so regelmässig erscheint sie. Im Innern zeigt sie sich überraschend vielgestaltig und deutlich sind die Spuren einer reichen Baugeschichte zu sehen. Sie zeigen\, wie sich das Haus im Laufe der Jahrhunderte komplett verändert hat. Was früher eine Fassade war\, ist heute eine Binnenwand und einstige Bewohner*innen haben auf einer Wand den heute wieder so aktuellen Wunsch nach Frieden hinterlassen.
URL:https://susthorgen.ch/event/expertenfuehrung-baugeschichte-4/
LOCATION:Sust Museum Horgen\, Bahnhofstrasse 27\, Horgen\, Zürich\, 8810
ATTACH;FMTTYPE=image/jpeg:https://susthorgen.ch/wp-content/uploads/2023/08/L1030228-scaled.jpg
END:VEVENT
BEGIN:VEVENT
DTSTART;TZID=Europe/Zurich:20240416T183000
DTEND;TZID=Europe/Zurich:20240416T193000
DTSTAMP:20260421T173017
CREATED:20240219T190308Z
LAST-MODIFIED:20240219T191548Z
UID:8264-1713292200-1713295800@susthorgen.ch
SUMMARY:Öffentliche Führung «Abgetaucht»
DESCRIPTION:Die Kuratorin Franziska Pfenninger führt durch die Sonderausstellung «Abgetaucht. Der versunkene Hafen von Horgen»
URL:https://susthorgen.ch/event/oeffentliche-fuehrung-abgetaucht-2/
LOCATION:Zürich
ATTACH;FMTTYPE=image/jpeg:https://susthorgen.ch/wp-content/uploads/2023/08/titelbild-scaled-e1692462994736.jpg
END:VEVENT
END:VCALENDAR