BEGIN:VCALENDAR
VERSION:2.0
PRODID:-//Sust Museum Horgen - ECPv6.15.20//NONSGML v1.0//EN
CALSCALE:GREGORIAN
METHOD:PUBLISH
X-ORIGINAL-URL:https://susthorgen.ch
X-WR-CALDESC:Veranstaltungen für Sust Museum Horgen
REFRESH-INTERVAL;VALUE=DURATION:PT1H
X-Robots-Tag:noindex
X-PUBLISHED-TTL:PT1H
BEGIN:VTIMEZONE
TZID:Europe/Zurich
BEGIN:DAYLIGHT
TZOFFSETFROM:+0100
TZOFFSETTO:+0200
TZNAME:CEST
DTSTART:20230326T010000
END:DAYLIGHT
BEGIN:STANDARD
TZOFFSETFROM:+0200
TZOFFSETTO:+0100
TZNAME:CET
DTSTART:20231029T010000
END:STANDARD
BEGIN:DAYLIGHT
TZOFFSETFROM:+0100
TZOFFSETTO:+0200
TZNAME:CEST
DTSTART:20240331T010000
END:DAYLIGHT
BEGIN:STANDARD
TZOFFSETFROM:+0200
TZOFFSETTO:+0100
TZNAME:CET
DTSTART:20241027T010000
END:STANDARD
BEGIN:DAYLIGHT
TZOFFSETFROM:+0100
TZOFFSETTO:+0200
TZNAME:CEST
DTSTART:20250330T010000
END:DAYLIGHT
BEGIN:STANDARD
TZOFFSETFROM:+0200
TZOFFSETTO:+0100
TZNAME:CET
DTSTART:20251026T010000
END:STANDARD
END:VTIMEZONE
BEGIN:VEVENT
DTSTART;TZID=Europe/Zurich:20240114T153000
DTEND;TZID=Europe/Zurich:20240114T173000
DTSTAMP:20260421T221252
CREATED:20231208T075834Z
LAST-MODIFIED:20231208T181118Z
UID:8143-1705246200-1705253400@susthorgen.ch
SUMMARY:Abgetaucht mit Helmut Spangler
DESCRIPTION:Für Erkundungs- und Forschungstauchgänge ist nicht nur eine perfekt funktionierende Ausrüstung wichtig\, sondern auch eine fundierte Ausbildung. Das Ausbildungssystem moderner Tauchverbände umfasst heute mehrere Dutzend Ausbildungskurse mit teilweise mehrjährigen Ausbildungspfaden. Tauchinstruktor und Forschungstaucher Helmut Spangler gibt Einblick in die Entdeckung des Hafens\, und die Hintergründe bezüglich Technik und Ausbildung zu den Tauchgängen. Mehr Infos: www.7oceans.ch und https://www.instagram.com/7oceans__horgen/ \n\n\n\nJe nach Besucheraufkommen werden um 14.30 und 15.30 zwei Führungen angeboten. Gerne geht das Tauchteam auch auf  Fragen ein.
URL:https://susthorgen.ch/event/abgetaucht-mit-helmut-spangler/
LOCATION:Sust Museum Horgen\, Bahnhofstrasse 27\, Horgen\, Zürich\, 8810
ATTACH;FMTTYPE=image/jpeg:https://susthorgen.ch/wp-content/uploads/2023/08/Sonderausstellung_Abgetaucht_Helmut-scaled-e1692458231289.jpg
END:VEVENT
BEGIN:VEVENT
DTSTART;TZID=Europe/Zurich:20240116T193000
DTEND;TZID=Europe/Zurich:20240116T203000
DTSTAMP:20260421T221252
CREATED:20231208T080522Z
LAST-MODIFIED:20231208T083138Z
UID:8145-1705433400-1705437000@susthorgen.ch
SUMMARY:Expertenführung Baugeschichte
DESCRIPTION:Bauforscher und Stiftungsrat Dölf Wild nimmt Sie mit auf eine Zeitreise durch die bewegte Geschichte des Hauses und bringt Balken\, Türen und Böden zum Sprechen. \n\n\n\nDie Sust wirkt von aussen wie aus einem Guss gebaut\, so regelmässig erscheint sie. Im Innern zeigt sie sich überraschend vielgestaltig und deutlich sind die Spuren einer reichen Baugeschichte zu sehen. Sie zeigen\, wie sich das Haus im Laufe der Jahrhunderte komplett verändert hat. Was früher eine Fassade war\, ist heute eine Binnenwand und einstige Bewohner*innen haben auf einer Wand den heute wieder so aktuellen Wunsch nach Frieden hinterlassen.
URL:https://susthorgen.ch/event/expertenfuehrung-baugeschichte/
LOCATION:Sust Museum Horgen\, Bahnhofstrasse 27\, Horgen\, Zürich\, 8810
ATTACH;FMTTYPE=image/jpeg:https://susthorgen.ch/wp-content/uploads/2023/08/L1030228-scaled.jpg
END:VEVENT
END:VCALENDAR