BEGIN:VCALENDAR
VERSION:2.0
PRODID:-//Sust Museum Horgen - ECPv6.15.20//NONSGML v1.0//EN
CALSCALE:GREGORIAN
METHOD:PUBLISH
X-ORIGINAL-URL:https://susthorgen.ch
X-WR-CALDESC:Veranstaltungen für Sust Museum Horgen
REFRESH-INTERVAL;VALUE=DURATION:PT1H
X-Robots-Tag:noindex
X-PUBLISHED-TTL:PT1H
BEGIN:VTIMEZONE
TZID:Europe/Zurich
BEGIN:DAYLIGHT
TZOFFSETFROM:+0100
TZOFFSETTO:+0200
TZNAME:CEST
DTSTART:20220327T010000
END:DAYLIGHT
BEGIN:STANDARD
TZOFFSETFROM:+0200
TZOFFSETTO:+0100
TZNAME:CET
DTSTART:20221030T010000
END:STANDARD
BEGIN:DAYLIGHT
TZOFFSETFROM:+0100
TZOFFSETTO:+0200
TZNAME:CEST
DTSTART:20230326T010000
END:DAYLIGHT
BEGIN:STANDARD
TZOFFSETFROM:+0200
TZOFFSETTO:+0100
TZNAME:CET
DTSTART:20231029T010000
END:STANDARD
BEGIN:DAYLIGHT
TZOFFSETFROM:+0100
TZOFFSETTO:+0200
TZNAME:CEST
DTSTART:20240331T010000
END:DAYLIGHT
BEGIN:STANDARD
TZOFFSETFROM:+0200
TZOFFSETTO:+0100
TZNAME:CET
DTSTART:20241027T010000
END:STANDARD
END:VTIMEZONE
BEGIN:VEVENT
DTSTART;TZID=Europe/Zurich:20231105T150000
DTEND;TZID=Europe/Zurich:20231105T180000
DTSTAMP:20260422T011458
CREATED:20230405T114135Z
LAST-MODIFIED:20230714T121041Z
UID:715-1699196400-1699207200@susthorgen.ch
SUMMARY:Weben am Laufmeter IV
DESCRIPTION:Der traditionelle Webertag wird zum Weber:innentag! Vier Mal im Jahr rattert in der Sust neu der Webstuhl. Erfahrene Handweberinnen geben Einblick in die Welt der feinen Seidenfäden und -Stoffe und entführen Sie auf eine Reise in die Blütezeit der Seidenindustrie. Im Shop gibt es ausgewählte Produkte aus den schimmernden Stoffen. \n\n\n\nFlyer-Weben-am-LaufmeterHerunterladen
URL:https://susthorgen.ch/event/weben-am-laufmeter-iv-2/
LOCATION:Sust Museum Horgen\, Bahnhofstrasse 27\, Horgen\, Zürich\, 8810
ATTACH;FMTTYPE=image/jpeg:https://susthorgen.ch/wp-content/uploads/2022/07/Webstuhl_D50_9557-scaled.jpg
END:VEVENT
BEGIN:VEVENT
DTSTART;TZID=Europe/Zurich:20231115T103000
DTEND;TZID=Europe/Zurich:20231115T113000
DTSTAMP:20260422T011458
CREATED:20230614T055034Z
LAST-MODIFIED:20230614T055034Z
UID:843-1700044200-1700047800@susthorgen.ch
SUMMARY:Kafi mit den Kurator*innen
DESCRIPTION:Jeweils einmal im Quartal möchten wir Sie gerne zu einem informellen Austausch in unser Pop-Up-Café einladen. Wir schalten die Kaffeemaschine ein\, füllen Teekocher und Wasserkaraffen auf und freuen uns auf Gesellschaft! Sie bringen Fragen\, Anregungen\, Geschichten und vielleicht noch ihre beste Freundin oder den Nachbarn. \n\n\n\nDieses Mal begrüssen wir Sie zu fünft. Die beiden Kuratorinnen\, Franziska Pfenninger und Angela Stindt\, freuen sich über die Verstärkung durch Helmut Spangler\, Jens Meissner und Claudia Kühne. Die drei Taucher*innen haben den versunkenen Hafen von Horgen entdeckt und die Sonderausstellung mitkuratiert.
URL:https://susthorgen.ch/event/kafi-mit-den-kuratorinnen-2/
LOCATION:Sust Museum Horgen\, Bahnhofstrasse 27\, Horgen\, Zürich\, 8810
ATTACH;FMTTYPE=image/jpeg:https://susthorgen.ch/wp-content/uploads/2022/11/pexels-lisa-fotios-908331-scaled.jpg
END:VEVENT
BEGIN:VEVENT
DTSTART;TZID=Europe/Zurich:20231117T193000
DTEND;TZID=Europe/Zurich:20231117T220000
DTSTAMP:20260422T011458
CREATED:20230714T112339Z
LAST-MODIFIED:20230714T112614Z
UID:886-1700249400-1700258400@susthorgen.ch
SUMMARY:Freund*innenanlass
DESCRIPTION:Die Archäologin Kathrin Schäppi gibt Einblick in die jungsteinzeitliche Küche. Nach dem kurzweiligen Vortrag stehen Häppchen zum Probieren bereit.
URL:https://susthorgen.ch/event/freundinnenanlass/
LOCATION:Sust Museum Horgen\, Bahnhofstrasse 27\, Horgen\, Zürich\, 8810
ATTACH;FMTTYPE=image/jpeg:https://susthorgen.ch/wp-content/uploads/2023/07/Oetzis-letztes-Mal.jpg
END:VEVENT
BEGIN:VEVENT
DTSTART;TZID=Europe/Zurich:20231121T150000
DTEND;TZID=Europe/Zurich:20231121T170000
DTSTAMP:20260422T011458
CREATED:20230714T112756Z
LAST-MODIFIED:20230912T103007Z
UID:890-1700578800-1700586000@susthorgen.ch
SUMMARY:Ausgraben unter Wasser
DESCRIPTION:Die Tauchequipe der Unterwasserarchäologie Zürich besucht die Sust und gibt Auskunft zu ihrer Arbeit unter Wasser. \n\n\n\nBild: Drohnenaufnahme\, Übersicht über Aufsichtsboot und eingerichtetes Grabungsfeld\, ein Taucher bei der Arbeit (Aufnahme: Kantonsarchäologie Zürich)
URL:https://susthorgen.ch/event/ausgraben-unter-wasser/
LOCATION:Zürich
ATTACH;FMTTYPE=image/jpeg:https://susthorgen.ch/wp-content/uploads/2023/07/P44017-scaled.jpg
END:VEVENT
BEGIN:VEVENT
DTSTART;TZID=Europe/Zurich:20231126T153000
DTEND;TZID=Europe/Zurich:20231126T173000
DTSTAMP:20260422T011458
CREATED:20230714T113655Z
LAST-MODIFIED:20230808T061207Z
UID:892-1701012600-1701019800@susthorgen.ch
SUMMARY:Abgetaucht mit Helmut Spangler
DESCRIPTION:Der Tauchinstruktor und Forschungstaucher Helmut Spangler gibt Einblick in die Entdeckung des Hafens.  \n\n\n\nFür Erkundungs- und Forschungstauchgänge ist nicht nur eine perfekt funktionierende Ausrüstung wichtig\, sondern auch eine fundierte Ausbildung. Das Ausbildungssystem moderner Tauchverbände umfasst heute mehrere Dutzend Ausbildungskurse mit teilweise mehrjährigen Ausbildungspfaden. Tauchinstruktor und Forschungstaucher Helmut Spangler gibt Einblick in die Entdeckung des Hafens\, und die Hintergründe bezüglich Technik und Ausbildung zu den Tauchgängen. Mehr Infos: www.7oceans.ch und https://www.instagram.com/7oceans__horgen/
URL:https://susthorgen.ch/event/abtauchen-mit-helmut-spangler/
LOCATION:Sust Museum Horgen\, Bahnhofstrasse 27\, Horgen\, Zürich\, 8810
ATTACH;FMTTYPE=image/jpeg:https://susthorgen.ch/wp-content/uploads/2023/07/Abgetaucht-e1692459516878.jpg
END:VEVENT
END:VCALENDAR