BEGIN:VCALENDAR
VERSION:2.0
PRODID:-//Sust Museum Horgen - ECPv6.15.20//NONSGML v1.0//EN
CALSCALE:GREGORIAN
METHOD:PUBLISH
X-WR-CALNAME:Sust Museum Horgen
X-ORIGINAL-URL:https://susthorgen.ch
X-WR-CALDESC:Veranstaltungen für Sust Museum Horgen
REFRESH-INTERVAL;VALUE=DURATION:PT1H
X-Robots-Tag:noindex
X-PUBLISHED-TTL:PT1H
BEGIN:VTIMEZONE
TZID:Europe/Zurich
BEGIN:DAYLIGHT
TZOFFSETFROM:+0100
TZOFFSETTO:+0200
TZNAME:CEST
DTSTART:20220327T010000
END:DAYLIGHT
BEGIN:STANDARD
TZOFFSETFROM:+0200
TZOFFSETTO:+0100
TZNAME:CET
DTSTART:20221030T010000
END:STANDARD
BEGIN:DAYLIGHT
TZOFFSETFROM:+0100
TZOFFSETTO:+0200
TZNAME:CEST
DTSTART:20230326T010000
END:DAYLIGHT
BEGIN:STANDARD
TZOFFSETFROM:+0200
TZOFFSETTO:+0100
TZNAME:CET
DTSTART:20231029T010000
END:STANDARD
BEGIN:DAYLIGHT
TZOFFSETFROM:+0100
TZOFFSETTO:+0200
TZNAME:CEST
DTSTART:20240331T010000
END:DAYLIGHT
BEGIN:STANDARD
TZOFFSETFROM:+0200
TZOFFSETTO:+0100
TZNAME:CET
DTSTART:20241027T010000
END:STANDARD
END:VTIMEZONE
BEGIN:VEVENT
DTSTART;TZID=Europe/Zurich:20231007T190000
DTEND;TZID=Europe/Zurich:20231007T220000
DTSTAMP:20260422T024818
CREATED:20230405T115329Z
LAST-MODIFIED:20230911T112957Z
UID:719-1696705200-1696716000@susthorgen.ch
SUMMARY:Vernissage Sonderausstellung «Abgetaucht»
DESCRIPTION:Eröffnung der Sonderausstellung zum versunkenen Susthafen \n\n\n\n17.00 Uhr Eintreffen der Gäste \n\n\n\n17:30 Uhr Grussworte \n\n\n\n\nMartin Lauber\, Präsident der Stiftung für das Ortsmuseum und die Chronik der Gemeinde Horgen\n\n\n\nFranziska Pfenninger\, Kuratorin und Museumsleiterin Sust Museum Horgen\n\n\n\nJens O. Meissner\, Taucher TekTeam 7 Oceans\n\n\n\nAndreas Mäder\, Leiter Unterwasserarchäologie/Dendroarchäologie (UWAD)\n\n\n\n\n18:30 Uhr Apéro
URL:https://susthorgen.ch/event/vernissage-sonderausstellung-abgetaucht/
LOCATION:Sust Museum Horgen\, Bahnhofstrasse 27\, Horgen\, Zürich\, 8810
ATTACH;FMTTYPE=image/jpeg:https://susthorgen.ch/wp-content/uploads/2023/09/pexels-splitshire-1475-scaled.jpg
END:VEVENT
BEGIN:VEVENT
DTSTART;TZID=Europe/Zurich:20231015T163000
DTEND;TZID=Europe/Zurich:20231015T183000
DTSTAMP:20260422T024818
CREATED:20230714T104836Z
LAST-MODIFIED:20230911T104807Z
UID:877-1697387400-1697394600@susthorgen.ch
SUMMARY:Blick hinter die Kulissen
DESCRIPTION:Erfahren Sie aus erster Hand\, wie aus Objekten und Texte eine attraktive Ausstellung entsteht. Dazu gibt es einen kleinen Workshop zum Mitmachen. Ein Einstieg ist jederzeit möglich. \n\n\n\nElena Kaufmann\, Leonie Baumberger und Alexandra studier(t)en scientific visualization an der ZHdK. Im Rahmen einer Semesterarbeit erstellten sie drei Visualisierungen zur Hafen-Abrutschung von 1883. Diese überzeugten so sehr\, dass sie auch die Gestaltung der Ausstellung übernahmen. Am 15. Oktober geben die drei Einblick in ihre Arbeit und laden zum Mitmachen ein.
URL:https://susthorgen.ch/event/blick-hinter-die-kulissen/
LOCATION:Sust Museum Horgen\, Bahnhofstrasse 27\, Horgen\, Zürich\, 8810
ATTACH;FMTTYPE=image/jpeg:https://susthorgen.ch/wp-content/uploads/2023/07/Teaserbild-Blick-hinter-die-Kulissen.jpg
END:VEVENT
BEGIN:VEVENT
DTSTART;TZID=Europe/Zurich:20231018T203000
DTEND;TZID=Europe/Zurich:20231018T213000
DTSTAMP:20260422T024818
CREATED:20230714T105544Z
LAST-MODIFIED:20230911T114108Z
UID:880-1697661000-1697664600@susthorgen.ch
SUMMARY:Öffentliche Führung «Abgetaucht»
DESCRIPTION:Öffentliche Führung durch die Sonderausstellung «Abgetaucht. Der versunkene Hafen von Horgen» mit Franziska Pfenninger\, Kuratorin und Museumsleiterin.
URL:https://susthorgen.ch/event/oeffentliche-fuehrung-abgetaucht/
LOCATION:Sust Museum Horgen\, Bahnhofstrasse 27\, Horgen\, Zürich\, 8810
ATTACH;FMTTYPE=image/jpeg:https://susthorgen.ch/wp-content/uploads/2023/09/Sust-mit-Schiffshaabe-1910-scaled.jpg
END:VEVENT
BEGIN:VEVENT
DTSTART;TZID=Europe/Zurich:20231029T153000
DTEND;TZID=Europe/Zurich:20231029T170000
DTSTAMP:20260422T024818
CREATED:20230714T111724Z
LAST-MODIFIED:20230911T112659Z
UID:882-1698593400-1698598800@susthorgen.ch
SUMMARY:Expertenführung zu den Seerutschungen
DESCRIPTION:Der Historiker Martin Illi berichtet über die Seerutschungen in Horgen und führt zu vergessenen Schauplätzen. Ein Teil der Führung findet draussen statt. Wir empfehlen wetterfeste Kleidung. \n\n\n\nFür diese Führung erheben wir einen kleinen Unkostenbeitrag.
URL:https://susthorgen.ch/event/expertenfuehrung/
LOCATION:Sust Museum Horgen\, Bahnhofstrasse 27\, Horgen\, Zürich\, 8810
ATTACH;FMTTYPE=image/jpeg:https://susthorgen.ch/wp-content/uploads/2023/09/Eisenbahnschienen.jpg
END:VEVENT
END:VCALENDAR