BEGIN:VCALENDAR
VERSION:2.0
PRODID:-//Sust Museum Horgen - ECPv6.15.20//NONSGML v1.0//EN
CALSCALE:GREGORIAN
METHOD:PUBLISH
X-WR-CALNAME:Sust Museum Horgen
X-ORIGINAL-URL:https://susthorgen.ch
X-WR-CALDESC:Veranstaltungen für Sust Museum Horgen
REFRESH-INTERVAL;VALUE=DURATION:PT1H
X-Robots-Tag:noindex
X-PUBLISHED-TTL:PT1H
BEGIN:VTIMEZONE
TZID:Europe/Zurich
BEGIN:DAYLIGHT
TZOFFSETFROM:+0100
TZOFFSETTO:+0200
TZNAME:CEST
DTSTART:20220327T010000
END:DAYLIGHT
BEGIN:STANDARD
TZOFFSETFROM:+0200
TZOFFSETTO:+0100
TZNAME:CET
DTSTART:20221030T010000
END:STANDARD
BEGIN:DAYLIGHT
TZOFFSETFROM:+0100
TZOFFSETTO:+0200
TZNAME:CEST
DTSTART:20230326T010000
END:DAYLIGHT
BEGIN:STANDARD
TZOFFSETFROM:+0200
TZOFFSETTO:+0100
TZNAME:CET
DTSTART:20231029T010000
END:STANDARD
BEGIN:DAYLIGHT
TZOFFSETFROM:+0100
TZOFFSETTO:+0200
TZNAME:CEST
DTSTART:20240331T010000
END:DAYLIGHT
BEGIN:STANDARD
TZOFFSETFROM:+0200
TZOFFSETTO:+0100
TZNAME:CET
DTSTART:20241027T010000
END:STANDARD
END:VTIMEZONE
BEGIN:VEVENT
DTSTART;TZID=Europe/Zurich:20230906T113000
DTEND;TZID=Europe/Zurich:20230906T123000
DTSTAMP:20260422T041433
CREATED:20230614T054551Z
LAST-MODIFIED:20230714T101557Z
UID:841-1693999800-1694003400@susthorgen.ch
SUMMARY:Kafi mit den Kurator*innen
DESCRIPTION:Besuchen Sie uns in der Sust und trinken Sie einen Kaffee mit uns! \n\n\n\nJeweils einmal im Quartal möchten wir Sie gerne zu einem informellen Austausch in unser Pop-Up-Café einladen. Wir schalten die Kaffeemaschine ein\, füllen Teekocher und Wasserkaraffen auf und freuen uns auf Gesellschaft! Sie bringen Fragen\, Anregungen\, Geschichten und vielleicht noch ihre beste Freundin oder den Nachbarn. \n\n\n\nDieses Mal begrüssen wir Sie zu dritt. Die beiden Kuratorinnen\, Franziska Pfenninger und Angela Stindt\, freuen sich über die Verstärkung durch Dölf Wild\, Stiftungsratsmitglied\, Experte für Bauforschung und Co-Kurator der Dauerausstellung zur Baugeschichte. Kommen Sie vorbei\, wir freuen uns!
URL:https://susthorgen.ch/event/kafi-mit-den-kuratorinnen/
LOCATION:Sust Museum Horgen\, Bahnhofstrasse 27\, Horgen\, Zürich\, 8810
ATTACH;FMTTYPE=image/jpeg:https://susthorgen.ch/wp-content/uploads/2022/11/pexels-lisa-fotios-908331-scaled.jpg
END:VEVENT
BEGIN:VEVENT
DTSTART;TZID=Europe/Zurich:20230910T160000
DTEND;TZID=Europe/Zurich:20230910T190000
DTSTAMP:20260422T041433
CREATED:20230321T130042Z
LAST-MODIFIED:20230714T120646Z
UID:699-1694361600-1694372400@susthorgen.ch
SUMMARY:Ergänzen und Vergolden
DESCRIPTION:Das Sust Museum Horgen verfügt über eine bedeutsame und umfangreiche Sammlung. Für eine nachhaltige Erhaltung muss diese stetig gepflegt und regelmässig fachkundig restauriert werden. Angela Stindt\, Konservatorin-Restauratorin und Assistenz-Kuratorin in der Sust gibt Einblick in ihre Arbeit. \n\n\n\nDie Sammlung des Museums umfasst schätzungsweise rund 25‘000 bis 30‘000 Objekte. Verschiedene Kuratoren und Mitglieder des Stiftungsrates trugen sie in den vergangenen Jahrzehnten zusammen. Dazu gehören Fotografien\, Karten und Pläne\, Gemälde\, Zeichnungen\, Drucke\, Waffen\, Textilien sowie Objekte aus den Bereichen Verkehr\, Industrie\, Landwirtschaft\, Handel\, Gewerbe\, Bergbau\, Schule\, Küche\, Haushalt und Archaeologica. Die Restauratorin Angela Stindt erzählt an Beispielen der Sammlung über ihre Arbeit. Der Einstieg ist jederzeit möglich.
URL:https://susthorgen.ch/event/ergaenzen-und-vergolden/
LOCATION:Sust Museum Horgen\, Bahnhofstrasse 27\, Horgen\, Zürich\, 8810
ATTACH;FMTTYPE=image/jpeg:https://susthorgen.ch/wp-content/uploads/2023/03/2944-Spiegel-scaled.jpg
END:VEVENT
END:VCALENDAR