BEGIN:VCALENDAR
VERSION:2.0
PRODID:-//Sust Museum Horgen - ECPv6.15.20//NONSGML v1.0//EN
CALSCALE:GREGORIAN
METHOD:PUBLISH
X-WR-CALNAME:Sust Museum Horgen
X-ORIGINAL-URL:https://susthorgen.ch
X-WR-CALDESC:Veranstaltungen für Sust Museum Horgen
REFRESH-INTERVAL;VALUE=DURATION:PT1H
X-Robots-Tag:noindex
X-PUBLISHED-TTL:PT1H
BEGIN:VTIMEZONE
TZID:Europe/Zurich
BEGIN:DAYLIGHT
TZOFFSETFROM:+0100
TZOFFSETTO:+0200
TZNAME:CEST
DTSTART:20220327T010000
END:DAYLIGHT
BEGIN:STANDARD
TZOFFSETFROM:+0200
TZOFFSETTO:+0100
TZNAME:CET
DTSTART:20221030T010000
END:STANDARD
BEGIN:DAYLIGHT
TZOFFSETFROM:+0100
TZOFFSETTO:+0200
TZNAME:CEST
DTSTART:20230326T010000
END:DAYLIGHT
BEGIN:STANDARD
TZOFFSETFROM:+0200
TZOFFSETTO:+0100
TZNAME:CET
DTSTART:20231029T010000
END:STANDARD
BEGIN:DAYLIGHT
TZOFFSETFROM:+0100
TZOFFSETTO:+0200
TZNAME:CEST
DTSTART:20240331T010000
END:DAYLIGHT
BEGIN:STANDARD
TZOFFSETFROM:+0200
TZOFFSETTO:+0100
TZNAME:CET
DTSTART:20241027T010000
END:STANDARD
END:VTIMEZONE
BEGIN:VEVENT
DTSTART;TZID=Europe/Zurich:20230604T160000
DTEND;TZID=Europe/Zurich:20230604T190000
DTSTAMP:20260422T084342
CREATED:20230405T113928Z
LAST-MODIFIED:20230405T113928Z
UID:711-1685894400-1685905200@susthorgen.ch
SUMMARY:Weben am Laufmeter II
DESCRIPTION:Der traditionelle Webertag wird zum Weber:innentag! Vier Mal im Jahr rattert in der Sust neu der Webstuhl. Erfahrene Handweberinnen geben Einblick in die Welt der feinen Seidenfäden und -Stoffe und entführen Sie auf eine Reise in die Blütezeit der Seidenindustrie. Im Shop gibt es ausgewählte Produkte aus den schimmernden Stoffen.
URL:https://susthorgen.ch/event/weben-am-laufmeter-ii-2/
LOCATION:Sust Museum Horgen\, Bahnhofstrasse 27\, Horgen\, Zürich\, 8810
ATTACH;FMTTYPE=image/jpeg:https://susthorgen.ch/wp-content/uploads/2022/07/Webstuhl_D50_9557-scaled.jpg
END:VEVENT
BEGIN:VEVENT
DTSTART;TZID=Europe/Zurich:20230607T203000
DTEND;TZID=Europe/Zurich:20230607T213000
DTSTAMP:20260422T084342
CREATED:20230327T071552Z
LAST-MODIFIED:20230327T071940Z
UID:706-1686169800-1686173400@susthorgen.ch
SUMMARY:Öffentliche Führung «Bachlauf»
DESCRIPTION:Thomas Schäppi\, Journalist und Kurator der Sonderausstellung Bachlauf lädt zu einer öffentlichen Führung.  \n\n\n\nKeine Anmeldung erforderlich
URL:https://susthorgen.ch/event/oeffentliche-fuehrung-bachlauf-3/
LOCATION:Sust Museum Horgen\, Bahnhofstrasse 27\, Horgen\, Zürich\, 8810
ATTACH;FMTTYPE=image/jpeg:https://susthorgen.ch/wp-content/uploads/2023/01/Bergweiher-1960_E_31738-scaled.jpg
END:VEVENT
END:VCALENDAR