BEGIN:VCALENDAR
VERSION:2.0
PRODID:-//Sust Museum Horgen - ECPv6.15.20//NONSGML v1.0//EN
CALSCALE:GREGORIAN
METHOD:PUBLISH
X-WR-CALNAME:Sust Museum Horgen
X-ORIGINAL-URL:https://susthorgen.ch
X-WR-CALDESC:Veranstaltungen für Sust Museum Horgen
REFRESH-INTERVAL;VALUE=DURATION:PT1H
X-Robots-Tag:noindex
X-PUBLISHED-TTL:PT1H
BEGIN:VTIMEZONE
TZID:Europe/Zurich
BEGIN:DAYLIGHT
TZOFFSETFROM:+0100
TZOFFSETTO:+0200
TZNAME:CEST
DTSTART:20210328T010000
END:DAYLIGHT
BEGIN:STANDARD
TZOFFSETFROM:+0200
TZOFFSETTO:+0100
TZNAME:CET
DTSTART:20211031T010000
END:STANDARD
BEGIN:DAYLIGHT
TZOFFSETFROM:+0100
TZOFFSETTO:+0200
TZNAME:CEST
DTSTART:20220327T010000
END:DAYLIGHT
BEGIN:STANDARD
TZOFFSETFROM:+0200
TZOFFSETTO:+0100
TZNAME:CET
DTSTART:20221030T010000
END:STANDARD
BEGIN:DAYLIGHT
TZOFFSETFROM:+0100
TZOFFSETTO:+0200
TZNAME:CEST
DTSTART:20230326T010000
END:DAYLIGHT
BEGIN:STANDARD
TZOFFSETFROM:+0200
TZOFFSETTO:+0100
TZNAME:CET
DTSTART:20231029T010000
END:STANDARD
END:VTIMEZONE
BEGIN:VEVENT
DTSTART;TZID=Europe/Zurich:20221006T203000
DTEND;TZID=Europe/Zurich:20221006T233000
DTSTAMP:20260422T212918
CREATED:20220904T085525Z
LAST-MODIFIED:20220920T104854Z
UID:472-1665088200-1665099000@susthorgen.ch
SUMMARY:Preisübergabe Kulturpreis
DESCRIPTION:Offizielle Übergabe des Kulturpreises 2022 der Gemeinde Horgen an den Künstler Heinz Misteli und die Künstlerin Katharina Anderson. \n\n\n\nhttps://kulturfonds-horgen.ch/
URL:https://susthorgen.ch/event/preisuebergabe-kulturpreis/
LOCATION:Sust Museum Horgen\, Bahnhofstrasse 27\, Horgen\, Zürich\, 8810
END:VEVENT
BEGIN:VEVENT
DTSTART;TZID=Europe/Zurich:20221007T200000
DTEND;TZID=Europe/Zurich:20221009T013000
DTSTAMP:20260422T212918
CREATED:20220607T094615Z
LAST-MODIFIED:20220920T104229Z
UID:376-1665172800-1665279000@susthorgen.ch
SUMMARY:Museumsnacht - Rätselhaft
DESCRIPTION:Das Archäomobil Ostschweiz kommt! Gemeinsam mit Archäolog:innen ergründest du an der Museumsnacht rätselhafte Spuren der ältesten Bewohner:innen von Horgen\, den Pfahlbauer:innen. Du erfährst\, warum Jahrringe von Bäumen so spannend sind und weshalb sich Archäolog:innen für Abfall interessieren. Ganz schön rätselhaft. In der Sust gehst du auf eine Zeitreise ins Mittelalter und entdeckst bei einem Rundgang allerlei rätselhafte Spuren auf dem Boden\, an der Decke\, auf den Wänden und sogar an den Fenstern. Damit niemand hungrig bleibt\, gibt es frisch gebackenes Pfahlbaubrot vom Feuer mit selbst gemahlenen Mehl. \n\n\n\n\nZur Webseite
URL:https://susthorgen.ch/event/museumsnacht-raetselhaft/
LOCATION:Sust Museum Horgen\, Bahnhofstrasse 27\, Horgen\, Zürich\, 8810
ATTACH;FMTTYPE=image/jpeg:https://susthorgen.ch/wp-content/uploads/2022/06/Archaeomobil.jpg
END:VEVENT
BEGIN:VEVENT
DTSTART;TZID=Europe/Zurich:20221008T160000
DTEND;TZID=Europe/Zurich:20221023T180000
DTSTAMP:20260422T212918
CREATED:20220904T085852Z
LAST-MODIFIED:20220920T105612Z
UID:475-1665244800-1666548000@susthorgen.ch
SUMMARY:Ausstellung Kulturpreis 2022
DESCRIPTION:Kaffee\, Kuchen und Tee ab 14 Uhr sowie Konzert mit dem chorhorgen ab 15.30 Uhr.  \n\n\nhttps://kulturfonds-horgen.ch/
URL:https://susthorgen.ch/event/ausstellung-kulturpreis-2022/
LOCATION:Sust Museum Horgen\, Bahnhofstrasse 27\, Horgen\, Zürich\, 8810
END:VEVENT
END:VCALENDAR