BEGIN:VCALENDAR
VERSION:2.0
PRODID:-//Sust Museum Horgen - ECPv6.15.20//NONSGML v1.0//EN
CALSCALE:GREGORIAN
METHOD:PUBLISH
X-WR-CALNAME:Sust Museum Horgen
X-ORIGINAL-URL:https://susthorgen.ch
X-WR-CALDESC:Veranstaltungen für Sust Museum Horgen
REFRESH-INTERVAL;VALUE=DURATION:PT1H
X-Robots-Tag:noindex
X-PUBLISHED-TTL:PT1H
BEGIN:VTIMEZONE
TZID:Europe/Zurich
BEGIN:DAYLIGHT
TZOFFSETFROM:+0100
TZOFFSETTO:+0200
TZNAME:CEST
DTSTART:20210328T010000
END:DAYLIGHT
BEGIN:STANDARD
TZOFFSETFROM:+0200
TZOFFSETTO:+0100
TZNAME:CET
DTSTART:20211031T010000
END:STANDARD
BEGIN:DAYLIGHT
TZOFFSETFROM:+0100
TZOFFSETTO:+0200
TZNAME:CEST
DTSTART:20220327T010000
END:DAYLIGHT
BEGIN:STANDARD
TZOFFSETFROM:+0200
TZOFFSETTO:+0100
TZNAME:CET
DTSTART:20221030T010000
END:STANDARD
BEGIN:DAYLIGHT
TZOFFSETFROM:+0100
TZOFFSETTO:+0200
TZNAME:CEST
DTSTART:20230326T010000
END:DAYLIGHT
BEGIN:STANDARD
TZOFFSETFROM:+0200
TZOFFSETTO:+0100
TZNAME:CET
DTSTART:20231029T010000
END:STANDARD
END:VTIMEZONE
BEGIN:VEVENT
DTSTART;TZID=Europe/Zurich:20220814T160000
DTEND;TZID=Europe/Zurich:20220814T180000
DTSTAMP:20260424T141225
CREATED:20220713T105233Z
LAST-MODIFIED:20220713T105919Z
UID:425-1660492800-1660500000@susthorgen.ch
SUMMARY:Pop-Up Café au Musée
DESCRIPTION:Abkühlung gefällig? Über die Sommermonate eröffnen wir in der Sust ein kleines Pop-Up Selbstbedienungskaffee.
URL:https://susthorgen.ch/event/pop-up-cafe-au-musee/
LOCATION:Sust Museum Horgen\, Bahnhofstrasse 27\, Horgen\, Zürich\, 8810
ATTACH;FMTTYPE=image/jpeg:https://susthorgen.ch/wp-content/uploads/2022/07/pexels-maria-orlova-4946392-1-scaled-e1657717148764.jpg
END:VEVENT
BEGIN:VEVENT
DTSTART;TZID=Europe/Zurich:20220828T160000
DTEND;TZID=Europe/Zurich:20220828T180000
DTSTAMP:20260424T141225
CREATED:20220607T093514Z
LAST-MODIFIED:20220713T091533Z
UID:372-1661702400-1661709600@susthorgen.ch
SUMMARY:Weben am Laufmeter III
DESCRIPTION:Der traditionelle Webertag wird zum Weber:innentag! Vier Mal im Jahr rattert in der Sust neu der Webstuhl. Erfahrene Handweberinnen geben Einblick in die Welt der feinen Seidenfäden und -Stoffe und entführen Sie auf eine Reise in die Blütezeit der Seidenindustrie. Im Shop gibt es ausgewählte Produkte aus den schimmernden Stoffen.
URL:https://susthorgen.ch/event/weben-am-laufmeter-iii/
LOCATION:Sust Museum Horgen\, Bahnhofstrasse 27\, Horgen\, Zürich\, 8810
ATTACH;FMTTYPE=image/jpeg:https://susthorgen.ch/wp-content/uploads/2022/07/Webstuhl_D50_9557-scaled.jpg
END:VEVENT
BEGIN:VEVENT
DTSTART;TZID=Europe/Zurich:20220828T160000
DTEND;TZID=Europe/Zurich:20220828T180000
DTSTAMP:20260424T141225
CREATED:20220713T085514Z
LAST-MODIFIED:20220713T090655Z
UID:386-1661702400-1661709600@susthorgen.ch
SUMMARY:Sust(ainable) Fashion
DESCRIPTION:Kleider-Atelier zum Mitmachen. Lass dich inspirieren von unserer Sammlung und werde kreativ. Aus allerlei verschiedenen Recycling-Materialien gestaltest du dein eigenes fantastisches Kleid. Das Atelier ist frei zugänglich\, wenn das Museum offen ist.
URL:https://susthorgen.ch/event/sustainable-fashion/
LOCATION:Sust Museum Horgen\, Bahnhofstrasse 27\, Horgen\, Zürich\, 8810
ATTACH;FMTTYPE=image/jpeg:https://susthorgen.ch/wp-content/uploads/2022/07/OSH_000000280_002-scaled-e1657710400680.jpg
END:VEVENT
BEGIN:VEVENT
DTSTART;TZID=Europe/Zurich:20220828T160000
DTEND;TZID=Europe/Zurich:20220828T180000
DTSTAMP:20260424T141225
CREATED:20220713T105444Z
LAST-MODIFIED:20220713T105445Z
UID:427-1661702400-1661709600@susthorgen.ch
SUMMARY:Pop-Up Café au Musée
DESCRIPTION:Abkühlung gefällig? Über die Sommermonate eröffnen wir in der Sust ein kleines Pop-Up Selbstbedienungskaffee.
URL:https://susthorgen.ch/event/pop-up-cafe-au-musee-2/
LOCATION:Sust Museum Horgen\, Bahnhofstrasse 27\, Horgen\, Zürich\, 8810
ATTACH;FMTTYPE=image/jpeg:https://susthorgen.ch/wp-content/uploads/2022/07/pexels-maria-orlova-4946392-1-scaled-e1657717148764.jpg
END:VEVENT
END:VCALENDAR