BEGIN:VCALENDAR
VERSION:2.0
PRODID:-//Sust Museum Horgen - ECPv6.15.20//NONSGML v1.0//EN
CALSCALE:GREGORIAN
METHOD:PUBLISH
X-WR-CALNAME:Sust Museum Horgen
X-ORIGINAL-URL:https://susthorgen.ch
X-WR-CALDESC:Veranstaltungen für Sust Museum Horgen
REFRESH-INTERVAL;VALUE=DURATION:PT1H
X-Robots-Tag:noindex
X-PUBLISHED-TTL:PT1H
BEGIN:VTIMEZONE
TZID:Europe/Zurich
BEGIN:DAYLIGHT
TZOFFSETFROM:+0100
TZOFFSETTO:+0200
TZNAME:CEST
DTSTART:20210328T010000
END:DAYLIGHT
BEGIN:STANDARD
TZOFFSETFROM:+0200
TZOFFSETTO:+0100
TZNAME:CET
DTSTART:20211031T010000
END:STANDARD
BEGIN:DAYLIGHT
TZOFFSETFROM:+0100
TZOFFSETTO:+0200
TZNAME:CEST
DTSTART:20220327T010000
END:DAYLIGHT
BEGIN:STANDARD
TZOFFSETFROM:+0200
TZOFFSETTO:+0100
TZNAME:CET
DTSTART:20221030T010000
END:STANDARD
BEGIN:DAYLIGHT
TZOFFSETFROM:+0100
TZOFFSETTO:+0200
TZNAME:CEST
DTSTART:20230326T010000
END:DAYLIGHT
BEGIN:STANDARD
TZOFFSETFROM:+0200
TZOFFSETTO:+0100
TZNAME:CET
DTSTART:20231029T010000
END:STANDARD
END:VTIMEZONE
BEGIN:VEVENT
DTSTART;TZID=Europe/Zurich:20220505T210000
DTEND;TZID=Europe/Zurich:20220505T230000
DTSTAMP:20260424T191852
CREATED:20220320T152501Z
LAST-MODIFIED:20220420T170552Z
UID:102-1651784400-1651791600@susthorgen.ch
SUMMARY:Vernissage
DESCRIPTION:Schichten und Risse. Scheiben im Spiel mit Licht und Farbe. \n\n\n\nChris Tanner (Bilder)\, Kari Wandeler (Skulpturen) \n\n\n\n 
URL:https://susthorgen.ch/event/vernissage/
LOCATION:Zürich
END:VEVENT
BEGIN:VEVENT
DTSTART;TZID=Europe/Zurich:20220515T160000
DTEND;TZID=Europe/Zurich:20220515T200000
DTSTAMP:20260424T191852
CREATED:20220419T103618Z
LAST-MODIFIED:20220509T084639Z
UID:165-1652630400-1652644800@susthorgen.ch
SUMMARY:Alles neu macht der Mai
DESCRIPTION:Das Museum ist endlich wieder offen und nichts ist mehr\, wie es war. Wie geht es weiter nach dem Umbau? Wir schauen in die Zukunft\, präsentieren unsere Ideen und sammeln eure Wünsche. Mit Kaffee\, Tee\, Sirup und Kuchen. \n\n\n\nDer Anlass findet im Rahmen des internationalen Museumstages zum Thema „the power of museums“ statt.
URL:https://susthorgen.ch/event/alles-neu-macht-der-mai/
LOCATION:Zürich
END:VEVENT
BEGIN:VEVENT
DTSTART;TZID=Europe/Zurich:20220521T110000
DTEND;TZID=Europe/Zurich:20220521T190000
DTSTAMP:20260424T191852
CREATED:20220320T153805Z
LAST-MODIFIED:20220419T101400Z
UID:117-1653130800-1653159600@susthorgen.ch
SUMMARY:Die Sust am Frühlingsmarkt Horgen
DESCRIPTION:Das Museumsteam mischt sich mit seiner Handling Collection unters Marktgeschehen. Entdecke Horgner Geschichte ohne trennende Vitrine!
URL:https://susthorgen.ch/event/die-sust-am-fruehlingsmarkt-horgen/
LOCATION:Zürich
END:VEVENT
BEGIN:VEVENT
DTSTART;TZID=Europe/Zurich:20220522T160000
DTEND;TZID=Europe/Zurich:20220522T200000
DTSTAMP:20260424T191852
CREATED:20220320T153255Z
LAST-MODIFIED:20220420T170327Z
UID:109-1653235200-1653249600@susthorgen.ch
SUMMARY:Finissage
DESCRIPTION:Schichten und Risse. Scheiben im Spiel mit Licht und Farbe \n\n\n\nChris Tanner (Bilder)\, Kari Wandeler (Skulpturen)
URL:https://susthorgen.ch/event/finissage/
LOCATION:Zürich
END:VEVENT
END:VCALENDAR