BEGIN:VCALENDAR
VERSION:2.0
PRODID:-//Sust Museum Horgen - ECPv6.15.20//NONSGML v1.0//EN
CALSCALE:GREGORIAN
METHOD:PUBLISH
X-WR-CALNAME:Sust Museum Horgen
X-ORIGINAL-URL:https://susthorgen.ch
X-WR-CALDESC:Veranstaltungen für Sust Museum Horgen
REFRESH-INTERVAL;VALUE=DURATION:PT1H
X-Robots-Tag:noindex
X-PUBLISHED-TTL:PT1H
BEGIN:VTIMEZONE
TZID:Europe/Zurich
BEGIN:DAYLIGHT
TZOFFSETFROM:+0100
TZOFFSETTO:+0200
TZNAME:CEST
DTSTART:20230326T010000
END:DAYLIGHT
BEGIN:STANDARD
TZOFFSETFROM:+0200
TZOFFSETTO:+0100
TZNAME:CET
DTSTART:20231029T010000
END:STANDARD
BEGIN:DAYLIGHT
TZOFFSETFROM:+0100
TZOFFSETTO:+0200
TZNAME:CEST
DTSTART:20240331T010000
END:DAYLIGHT
BEGIN:STANDARD
TZOFFSETFROM:+0200
TZOFFSETTO:+0100
TZNAME:CET
DTSTART:20241027T010000
END:STANDARD
BEGIN:DAYLIGHT
TZOFFSETFROM:+0100
TZOFFSETTO:+0200
TZNAME:CEST
DTSTART:20250330T010000
END:DAYLIGHT
BEGIN:STANDARD
TZOFFSETFROM:+0200
TZOFFSETTO:+0100
TZNAME:CET
DTSTART:20251026T010000
END:STANDARD
END:VTIMEZONE
BEGIN:VEVENT
DTSTART;TZID=Europe/Zurich:20240918T093000
DTEND;TZID=Europe/Zurich:20240918T110000
DTSTAMP:20260419T102919
CREATED:20240701T115039Z
LAST-MODIFIED:20240710T125955Z
UID:8663-1726651800-1726657200@susthorgen.ch
SUMMARY:Kafi mit den Kurator*innen goes Baumgärtlihof: Vernissage «ein-sortiert»
DESCRIPTION:Jeweils einmal im Quartal möchten wir Sie gerne zu einem informellen Austausch in unser Pop-Up-Café einladen. Wir schalten die Kaffeemaschine ein\, füllen Teekocher und Wasserkaraffen auf und freuen uns auf Gesellschaft! Sie bringen Fragen\, Anregungen\, Geschichten und vielleicht noch ihre beste Freundin oder den Nachbarn. \n\n\n\nAusnahmsweise treffen wir uns für diese gemeinsame Pause im Kafi Baumgärtlihof. Denn dort eröffnen wir zugleich «ein-sortiert» unsere Begleitausstellung zum Entsammlungsprojekt «aus-sortiert». Das Freiwilligenteam zeigt in einer kleinen Ausstellung\, welche Gegenstände in der Sammlung der Sust bleiben und was für Geschichten diese zu erzählen haben. Neben der Kuratorin Angela Coupe werden unsere freiwilligen Co-Kurator*innen Monika Bezel\, George Novotny\, Anca Badea und Danielle Escher vor Ort sein.
URL:https://susthorgen.ch/event/kafi-mit-den-kuratorinnen-5/
LOCATION:Kafi Baumgärtlihof\, Baumgärtlistrasse 12\, Horgen\, 8810
ATTACH;FMTTYPE=image/jpeg:https://susthorgen.ch/wp-content/uploads/2022/11/pexels-lisa-fotios-908331-scaled.jpg
END:VEVENT
END:VCALENDAR