BEGIN:VCALENDAR
VERSION:2.0
PRODID:-//Sust Museum Horgen - ECPv6.15.20//NONSGML v1.0//EN
CALSCALE:GREGORIAN
METHOD:PUBLISH
X-ORIGINAL-URL:https://susthorgen.ch
X-WR-CALDESC:Veranstaltungen für Sust Museum Horgen
REFRESH-INTERVAL;VALUE=DURATION:PT1H
X-Robots-Tag:noindex
X-PUBLISHED-TTL:PT1H
BEGIN:VTIMEZONE
TZID:Europe/Zurich
BEGIN:DAYLIGHT
TZOFFSETFROM:+0100
TZOFFSETTO:+0200
TZNAME:CEST
DTSTART:20230326T010000
END:DAYLIGHT
BEGIN:STANDARD
TZOFFSETFROM:+0200
TZOFFSETTO:+0100
TZNAME:CET
DTSTART:20231029T010000
END:STANDARD
BEGIN:DAYLIGHT
TZOFFSETFROM:+0100
TZOFFSETTO:+0200
TZNAME:CEST
DTSTART:20240331T010000
END:DAYLIGHT
BEGIN:STANDARD
TZOFFSETFROM:+0200
TZOFFSETTO:+0100
TZNAME:CET
DTSTART:20241027T010000
END:STANDARD
BEGIN:DAYLIGHT
TZOFFSETFROM:+0100
TZOFFSETTO:+0200
TZNAME:CEST
DTSTART:20250330T010000
END:DAYLIGHT
BEGIN:STANDARD
TZOFFSETFROM:+0200
TZOFFSETTO:+0100
TZNAME:CET
DTSTART:20251026T010000
END:STANDARD
END:VTIMEZONE
BEGIN:VEVENT
DTSTART;TZID=Europe/Zurich:20240629T190000
DTEND;TZID=Europe/Zurich:20240629T220000
DTSTAMP:20260421T154552
CREATED:20240219T165638Z
LAST-MODIFIED:20240219T184514Z
UID:8230-1719687600-1719698400@susthorgen.ch
SUMMARY:Musik im Museum
DESCRIPTION:2024 klingen die Museen im Juni im ganzen Kanton. In der Sust stehen aus diesem Anlass die Band Sonata auf der Bühne. Das Konzert startet um 19.30 Uhr und dauert etwa eine Stunde. Danach gibt’s Drinks und Snacks und wenn das Wetter mitspielt einen lauschigen Abend am Seeufer. \n\n\n\n„Hellouuu ! Wir sind Sonata\, eine sechsköpfige Band\, die vor einem Jahr zusammengekommen ist und gemeinsam Pop-Rock Lieder der 80er und 90er Jahre spielt. Ursprünglich waren wir eine zusammengewürfelte Gruppe von Schüler*innen\, die sich einmal pro Woche trafen\, um ihre Leidenschaft für die Musik zu teilen und Spass zu haben. Mit der Zeit ist eine sehr enge Freundschaft entstanden und nun teilen wir unsere Freude an der Musik auch mit anderen\, sei es bei Schulevents\, Contests oder Gigs. Dabei bringen wir sehr viel Energie mit und sorgen für stimmungsvolle Abende. Momentan spielen wir viele Covers\, von Amy Winehouse bis Michael Jackson und sind auch dran\, unsere eigenen Lieder zu schreiben. Wir freuen uns schon auf euch :-)“
URL:https://susthorgen.ch/event/klingende-museen/
LOCATION:Zürich
ATTACH;FMTTYPE=image/jpeg:https://susthorgen.ch/wp-content/uploads/2024/02/sonata-quer-scaled.jpg
END:VEVENT
END:VCALENDAR