BEGIN:VCALENDAR
VERSION:2.0
PRODID:-//Sust Museum Horgen - ECPv6.15.20//NONSGML v1.0//EN
CALSCALE:GREGORIAN
METHOD:PUBLISH
X-ORIGINAL-URL:https://susthorgen.ch
X-WR-CALDESC:Veranstaltungen für Sust Museum Horgen
REFRESH-INTERVAL;VALUE=DURATION:PT1H
X-Robots-Tag:noindex
X-PUBLISHED-TTL:PT1H
BEGIN:VTIMEZONE
TZID:Europe/Zurich
BEGIN:DAYLIGHT
TZOFFSETFROM:+0100
TZOFFSETTO:+0200
TZNAME:CEST
DTSTART:20230326T010000
END:DAYLIGHT
BEGIN:STANDARD
TZOFFSETFROM:+0200
TZOFFSETTO:+0100
TZNAME:CET
DTSTART:20231029T010000
END:STANDARD
BEGIN:DAYLIGHT
TZOFFSETFROM:+0100
TZOFFSETTO:+0200
TZNAME:CEST
DTSTART:20240331T010000
END:DAYLIGHT
BEGIN:STANDARD
TZOFFSETFROM:+0200
TZOFFSETTO:+0100
TZNAME:CET
DTSTART:20241027T010000
END:STANDARD
BEGIN:DAYLIGHT
TZOFFSETFROM:+0100
TZOFFSETTO:+0200
TZNAME:CEST
DTSTART:20250330T010000
END:DAYLIGHT
BEGIN:STANDARD
TZOFFSETFROM:+0200
TZOFFSETTO:+0100
TZNAME:CET
DTSTART:20251026T010000
END:STANDARD
END:VTIMEZONE
BEGIN:VEVENT
DTSTART;TZID=Europe/Zurich:20240609T140000
DTEND;TZID=Europe/Zurich:20240609T170000
DTSTAMP:20260421T152546
CREATED:20231208T083649Z
LAST-MODIFIED:20240528T132315Z
UID:8171-1717941600-1717952400@susthorgen.ch
SUMMARY:Finissage Sonderausstellung «Abgetaucht»
DESCRIPTION:Alles hat ein Ende\, auch unsere Sonderausstellungen. Wir laden noch einmal ein zur Besichtigung und zum gemeinsamen Abschluss. Als Spezialgast erwarten wir das Archäomobil Ostschweiz.  \n\n\n\nProgramm: \n\n\n\n\nMitglieder der Tauchgruppe 7Oceans erklären ihre Ausrüstung und zeigen\, wie sie damit im Zürichsee tauchen.\n\n\n\nDas Archäomobil Ostschweiz hat lokale Unterwasserfunde aus der Jungsteinzeit im Gepäck und erklärt die Arbeitsweise von Archäolog*innen.\n\n\n\nDie Kuratorinnen der Ausstellung führen jeweils zur vollen Stunde durch einzelne Räume.\n\n\n\nAlle Shop-Produkte aus dem Ausstellungs-Crowdfunding sind zu einem reduzierten Preis erhältlich.\n\n\n\nZur Erfrischung und Stärkung gibt es Kaffee\, Tee\, Sirup und Kuchen.
URL:https://susthorgen.ch/event/finissage-sonderausstellung-abgetaucht/
LOCATION:Sust Museum Horgen\, Bahnhofstrasse 27\, Horgen\, Zürich\, 8810
ATTACH;FMTTYPE=image/jpeg:https://susthorgen.ch/wp-content/uploads/2022/06/Archaeomobil.jpg
END:VEVENT
END:VCALENDAR