BEGIN:VCALENDAR
VERSION:2.0
PRODID:-//Sust Museum Horgen - ECPv6.15.20//NONSGML v1.0//EN
CALSCALE:GREGORIAN
METHOD:PUBLISH
X-WR-CALNAME:Sust Museum Horgen
X-ORIGINAL-URL:https://susthorgen.ch
X-WR-CALDESC:Veranstaltungen für Sust Museum Horgen
REFRESH-INTERVAL;VALUE=DURATION:PT1H
X-Robots-Tag:noindex
X-PUBLISHED-TTL:PT1H
BEGIN:VTIMEZONE
TZID:Europe/Zurich
BEGIN:DAYLIGHT
TZOFFSETFROM:+0100
TZOFFSETTO:+0200
TZNAME:CEST
DTSTART:20230326T010000
END:DAYLIGHT
BEGIN:STANDARD
TZOFFSETFROM:+0200
TZOFFSETTO:+0100
TZNAME:CET
DTSTART:20231029T010000
END:STANDARD
BEGIN:DAYLIGHT
TZOFFSETFROM:+0100
TZOFFSETTO:+0200
TZNAME:CEST
DTSTART:20240331T010000
END:DAYLIGHT
BEGIN:STANDARD
TZOFFSETFROM:+0200
TZOFFSETTO:+0100
TZNAME:CET
DTSTART:20241027T010000
END:STANDARD
BEGIN:DAYLIGHT
TZOFFSETFROM:+0100
TZOFFSETTO:+0200
TZNAME:CEST
DTSTART:20250330T010000
END:DAYLIGHT
BEGIN:STANDARD
TZOFFSETFROM:+0200
TZOFFSETTO:+0100
TZNAME:CET
DTSTART:20251026T010000
END:STANDARD
END:VTIMEZONE
BEGIN:VEVENT
DTSTART;TZID=Europe/Zurich:20240505T140000
DTEND;TZID=Europe/Zurich:20240505T170000
DTSTAMP:20260421T173858
CREATED:20231208T084434Z
LAST-MODIFIED:20240219T154341Z
UID:8175-1714917600-1714928400@susthorgen.ch
SUMMARY:Internationaler Museumstag
DESCRIPTION:Dieses Jahr feiern wir den internationalen Museumstag in der Sust am 5. Mai. Elena Kaeser und Alexandra Kaufmann bringen noch einmal die beliebte Druck-Werkstatt mit. Unter Anleitung der beiden entstehen individuelle Linol-Drucke mit Fisch- und anderen Seemotiven. Die Werke dürfen anschliessend mit nach Hause genommen werden. Der Anlass ist kostenlos. \n\n\n\nMit etwas Glück ist auch Leonie Baumberger Overtoom dabei\, die derzeit gerade ihr Studium an der ZHdK abschliesst. Das Trio begleitet die Sust seit 2022 und hat die Sonderausstellung Abgetaucht gestalterisch umgesetzt.
URL:https://susthorgen.ch/event/internationaler-museumstag/
LOCATION:Sust Museum Horgen\, Bahnhofstrasse 27\, Horgen\, Zürich\, 8810
ATTACH;FMTTYPE=image/jpeg:https://susthorgen.ch/wp-content/uploads/2023/12/IMG_5678-scaled.jpg
END:VEVENT
END:VCALENDAR