BEGIN:VCALENDAR
VERSION:2.0
PRODID:-//Sust Museum Horgen - ECPv6.15.20//NONSGML v1.0//EN
CALSCALE:GREGORIAN
METHOD:PUBLISH
X-WR-CALNAME:Sust Museum Horgen
X-ORIGINAL-URL:https://susthorgen.ch
X-WR-CALDESC:Veranstaltungen für Sust Museum Horgen
REFRESH-INTERVAL;VALUE=DURATION:PT1H
X-Robots-Tag:noindex
X-PUBLISHED-TTL:PT1H
BEGIN:VTIMEZONE
TZID:Europe/Zurich
BEGIN:DAYLIGHT
TZOFFSETFROM:+0100
TZOFFSETTO:+0200
TZNAME:CEST
DTSTART:20230326T010000
END:DAYLIGHT
BEGIN:STANDARD
TZOFFSETFROM:+0200
TZOFFSETTO:+0100
TZNAME:CET
DTSTART:20231029T010000
END:STANDARD
BEGIN:DAYLIGHT
TZOFFSETFROM:+0100
TZOFFSETTO:+0200
TZNAME:CEST
DTSTART:20240331T010000
END:DAYLIGHT
BEGIN:STANDARD
TZOFFSETFROM:+0200
TZOFFSETTO:+0100
TZNAME:CET
DTSTART:20241027T010000
END:STANDARD
BEGIN:DAYLIGHT
TZOFFSETFROM:+0100
TZOFFSETTO:+0200
TZNAME:CEST
DTSTART:20250330T010000
END:DAYLIGHT
BEGIN:STANDARD
TZOFFSETFROM:+0200
TZOFFSETTO:+0100
TZNAME:CET
DTSTART:20251026T010000
END:STANDARD
END:VTIMEZONE
BEGIN:VEVENT
DTSTART;TZID=Europe/Zurich:20240314T183000
DTEND;TZID=Europe/Zurich:20240314T193000
DTSTAMP:20260421T204625
CREATED:20231208T083041Z
LAST-MODIFIED:20240219T154734Z
UID:8163-1710441000-1710444600@susthorgen.ch
SUMMARY:Expertenführung Baugeschichte
DESCRIPTION:Bauforscher und Stiftungsrat Dölf Wild nimmt Sie mit auf eine Zeitreise durch die bewegte Geschichte des Hauses und bringt Balken\, Türen und Böden zum Sprechen. \n\n\n\nDie Sust wirkt von aussen wie aus einem Guss gebaut\, so regelmässig erscheint sie. Im Innern zeigt sie sich überraschend vielgestaltig und deutlich sind die Spuren einer reichen Baugeschichte zu sehen. Sie zeigen\, wie sich das Haus im Laufe der Jahrhunderte komplett verändert hat. Was früher eine Fassade war\, ist heute eine Binnenwand und einstige Bewohner*innen haben auf einer Wand den heute wieder so aktuellen Wunsch nach Frieden hinterlassen.
URL:https://susthorgen.ch/event/expertenfuehrung-baugeschichte-3/
LOCATION:Sust Museum Horgen\, Bahnhofstrasse 27\, Horgen\, Zürich\, 8810
ATTACH;FMTTYPE=image/jpeg:https://susthorgen.ch/wp-content/uploads/2023/08/L1030228-scaled.jpg
END:VEVENT
END:VCALENDAR