BEGIN:VCALENDAR
VERSION:2.0
PRODID:-//Sust Museum Horgen - ECPv6.15.20//NONSGML v1.0//EN
CALSCALE:GREGORIAN
METHOD:PUBLISH
X-WR-CALNAME:Sust Museum Horgen
X-ORIGINAL-URL:https://susthorgen.ch
X-WR-CALDESC:Veranstaltungen für Sust Museum Horgen
REFRESH-INTERVAL;VALUE=DURATION:PT1H
X-Robots-Tag:noindex
X-PUBLISHED-TTL:PT1H
BEGIN:VTIMEZONE
TZID:Europe/Zurich
BEGIN:DAYLIGHT
TZOFFSETFROM:+0100
TZOFFSETTO:+0200
TZNAME:CEST
DTSTART:20220327T010000
END:DAYLIGHT
BEGIN:STANDARD
TZOFFSETFROM:+0200
TZOFFSETTO:+0100
TZNAME:CET
DTSTART:20221030T010000
END:STANDARD
BEGIN:DAYLIGHT
TZOFFSETFROM:+0100
TZOFFSETTO:+0200
TZNAME:CEST
DTSTART:20230326T010000
END:DAYLIGHT
BEGIN:STANDARD
TZOFFSETFROM:+0200
TZOFFSETTO:+0100
TZNAME:CET
DTSTART:20231029T010000
END:STANDARD
BEGIN:DAYLIGHT
TZOFFSETFROM:+0100
TZOFFSETTO:+0200
TZNAME:CEST
DTSTART:20240331T010000
END:DAYLIGHT
BEGIN:STANDARD
TZOFFSETFROM:+0200
TZOFFSETTO:+0100
TZNAME:CET
DTSTART:20241027T010000
END:STANDARD
END:VTIMEZONE
BEGIN:VEVENT
DTSTART;TZID=Europe/Zurich:20231208T193000
DTEND;TZID=Europe/Zurich:20231208T210000
DTSTAMP:20260422T011755
CREATED:20230714T114044Z
LAST-MODIFIED:20230808T061400Z
UID:895-1702063800-1702069200@susthorgen.ch
SUMMARY:Aufgetaucht mit Jens O. Meissner
DESCRIPTION:Der Forschungstaucher Jens O. Meissner gibt Einblick in die Erforschung des Hafens nach seiner Entdeckung. \n\n\n\nErkundungen und Forschungsaktivitäten unter Wasser sind anspruchsvoll. Orientierungsverlust droht oft durch schlechte Sicht\, verschiedene Strömungen und rabenschwarze Dunkelheit. Dazu kommen Kälte und eine hohe Aufgabenlast durch die Unterwasserarbeiten und Dokumentation. Forschungs- und Explorationstaucher und Unterwasserfotograf Jens O. Meissner gibt Einblick in die Erforschung des Hafens nach seiner Entdeckung und geht dabei besonders auf die Anforderungen der Unterwasserfotografie bis hin zur 3D-Rekonstruktion ein (siehe Sketchfab und animierte Videos). Mehr Infos: https://www.instagram.com/localexploration/
URL:https://susthorgen.ch/event/auftauchen-mit-jens-o-meissner/
LOCATION:Sust Museum Horgen\, Bahnhofstrasse 27\, Horgen\, Zürich\, 8810
ATTACH;FMTTYPE=image/jpeg:https://susthorgen.ch/wp-content/uploads/2023/07/Aufgetaucht-e1689342187810.jpg
END:VEVENT
END:VCALENDAR