BEGIN:VCALENDAR
VERSION:2.0
PRODID:-//Sust Museum Horgen - ECPv6.15.20//NONSGML v1.0//EN
CALSCALE:GREGORIAN
METHOD:PUBLISH
X-WR-CALNAME:Sust Museum Horgen
X-ORIGINAL-URL:https://susthorgen.ch
X-WR-CALDESC:Veranstaltungen für Sust Museum Horgen
REFRESH-INTERVAL;VALUE=DURATION:PT1H
X-Robots-Tag:noindex
X-PUBLISHED-TTL:PT1H
BEGIN:VTIMEZONE
TZID:Europe/Zurich
BEGIN:DAYLIGHT
TZOFFSETFROM:+0100
TZOFFSETTO:+0200
TZNAME:CEST
DTSTART:20220327T010000
END:DAYLIGHT
BEGIN:STANDARD
TZOFFSETFROM:+0200
TZOFFSETTO:+0100
TZNAME:CET
DTSTART:20221030T010000
END:STANDARD
BEGIN:DAYLIGHT
TZOFFSETFROM:+0100
TZOFFSETTO:+0200
TZNAME:CEST
DTSTART:20230326T010000
END:DAYLIGHT
BEGIN:STANDARD
TZOFFSETFROM:+0200
TZOFFSETTO:+0100
TZNAME:CET
DTSTART:20231029T010000
END:STANDARD
BEGIN:DAYLIGHT
TZOFFSETFROM:+0100
TZOFFSETTO:+0200
TZNAME:CEST
DTSTART:20240331T010000
END:DAYLIGHT
BEGIN:STANDARD
TZOFFSETFROM:+0200
TZOFFSETTO:+0100
TZNAME:CET
DTSTART:20241027T010000
END:STANDARD
END:VTIMEZONE
BEGIN:VEVENT
DTSTART;TZID=Europe/Zurich:20231115T103000
DTEND;TZID=Europe/Zurich:20231115T113000
DTSTAMP:20260422T023805
CREATED:20230614T055034Z
LAST-MODIFIED:20230614T055034Z
UID:843-1700044200-1700047800@susthorgen.ch
SUMMARY:Kafi mit den Kurator*innen
DESCRIPTION:Jeweils einmal im Quartal möchten wir Sie gerne zu einem informellen Austausch in unser Pop-Up-Café einladen. Wir schalten die Kaffeemaschine ein\, füllen Teekocher und Wasserkaraffen auf und freuen uns auf Gesellschaft! Sie bringen Fragen\, Anregungen\, Geschichten und vielleicht noch ihre beste Freundin oder den Nachbarn. \n\n\n\nDieses Mal begrüssen wir Sie zu fünft. Die beiden Kuratorinnen\, Franziska Pfenninger und Angela Stindt\, freuen sich über die Verstärkung durch Helmut Spangler\, Jens Meissner und Claudia Kühne. Die drei Taucher*innen haben den versunkenen Hafen von Horgen entdeckt und die Sonderausstellung mitkuratiert.
URL:https://susthorgen.ch/event/kafi-mit-den-kuratorinnen-2/
LOCATION:Sust Museum Horgen\, Bahnhofstrasse 27\, Horgen\, Zürich\, 8810
ATTACH;FMTTYPE=image/jpeg:https://susthorgen.ch/wp-content/uploads/2022/11/pexels-lisa-fotios-908331-scaled.jpg
END:VEVENT
END:VCALENDAR