BEGIN:VCALENDAR
VERSION:2.0
PRODID:-//Sust Museum Horgen - ECPv6.15.20//NONSGML v1.0//EN
CALSCALE:GREGORIAN
METHOD:PUBLISH
X-ORIGINAL-URL:https://susthorgen.ch
X-WR-CALDESC:Veranstaltungen für Sust Museum Horgen
REFRESH-INTERVAL;VALUE=DURATION:PT1H
X-Robots-Tag:noindex
X-PUBLISHED-TTL:PT1H
BEGIN:VTIMEZONE
TZID:Europe/Zurich
BEGIN:DAYLIGHT
TZOFFSETFROM:+0100
TZOFFSETTO:+0200
TZNAME:CEST
DTSTART:20220327T010000
END:DAYLIGHT
BEGIN:STANDARD
TZOFFSETFROM:+0200
TZOFFSETTO:+0100
TZNAME:CET
DTSTART:20221030T010000
END:STANDARD
BEGIN:DAYLIGHT
TZOFFSETFROM:+0100
TZOFFSETTO:+0200
TZNAME:CEST
DTSTART:20230326T010000
END:DAYLIGHT
BEGIN:STANDARD
TZOFFSETFROM:+0200
TZOFFSETTO:+0100
TZNAME:CET
DTSTART:20231029T010000
END:STANDARD
BEGIN:DAYLIGHT
TZOFFSETFROM:+0100
TZOFFSETTO:+0200
TZNAME:CEST
DTSTART:20240331T010000
END:DAYLIGHT
BEGIN:STANDARD
TZOFFSETFROM:+0200
TZOFFSETTO:+0100
TZNAME:CET
DTSTART:20241027T010000
END:STANDARD
END:VTIMEZONE
BEGIN:VEVENT
DTSTART;TZID=Europe/Zurich:20231015T163000
DTEND;TZID=Europe/Zurich:20231015T183000
DTSTAMP:20260422T041734
CREATED:20230714T104836Z
LAST-MODIFIED:20230911T104807Z
UID:877-1697387400-1697394600@susthorgen.ch
SUMMARY:Blick hinter die Kulissen
DESCRIPTION:Erfahren Sie aus erster Hand\, wie aus Objekten und Texte eine attraktive Ausstellung entsteht. Dazu gibt es einen kleinen Workshop zum Mitmachen. Ein Einstieg ist jederzeit möglich. \n\n\n\nElena Kaufmann\, Leonie Baumberger und Alexandra studier(t)en scientific visualization an der ZHdK. Im Rahmen einer Semesterarbeit erstellten sie drei Visualisierungen zur Hafen-Abrutschung von 1883. Diese überzeugten so sehr\, dass sie auch die Gestaltung der Ausstellung übernahmen. Am 15. Oktober geben die drei Einblick in ihre Arbeit und laden zum Mitmachen ein.
URL:https://susthorgen.ch/event/blick-hinter-die-kulissen/
LOCATION:Sust Museum Horgen\, Bahnhofstrasse 27\, Horgen\, Zürich\, 8810
ATTACH;FMTTYPE=image/jpeg:https://susthorgen.ch/wp-content/uploads/2023/07/Teaserbild-Blick-hinter-die-Kulissen.jpg
END:VEVENT
END:VCALENDAR