BEGIN:VCALENDAR
VERSION:2.0
PRODID:-//Sust Museum Horgen - ECPv6.15.20//NONSGML v1.0//EN
CALSCALE:GREGORIAN
METHOD:PUBLISH
X-WR-CALNAME:Sust Museum Horgen
X-ORIGINAL-URL:https://susthorgen.ch
X-WR-CALDESC:Veranstaltungen für Sust Museum Horgen
REFRESH-INTERVAL;VALUE=DURATION:PT1H
X-Robots-Tag:noindex
X-PUBLISHED-TTL:PT1H
BEGIN:VTIMEZONE
TZID:Europe/Zurich
BEGIN:DAYLIGHT
TZOFFSETFROM:+0100
TZOFFSETTO:+0200
TZNAME:CEST
DTSTART:20220327T010000
END:DAYLIGHT
BEGIN:STANDARD
TZOFFSETFROM:+0200
TZOFFSETTO:+0100
TZNAME:CET
DTSTART:20221030T010000
END:STANDARD
BEGIN:DAYLIGHT
TZOFFSETFROM:+0100
TZOFFSETTO:+0200
TZNAME:CEST
DTSTART:20230326T010000
END:DAYLIGHT
BEGIN:STANDARD
TZOFFSETFROM:+0200
TZOFFSETTO:+0100
TZNAME:CET
DTSTART:20231029T010000
END:STANDARD
BEGIN:DAYLIGHT
TZOFFSETFROM:+0100
TZOFFSETTO:+0200
TZNAME:CEST
DTSTART:20240331T010000
END:DAYLIGHT
BEGIN:STANDARD
TZOFFSETFROM:+0200
TZOFFSETTO:+0100
TZNAME:CET
DTSTART:20241027T010000
END:STANDARD
END:VTIMEZONE
BEGIN:VEVENT
DTSTART;TZID=Europe/Zurich:20230723T160000
DTEND;TZID=Europe/Zurich:20230723T190000
DTSTAMP:20260422T083115
CREATED:20230708T131111Z
LAST-MODIFIED:20230708T131626Z
UID:865-1690128000-1690138800@susthorgen.ch
SUMMARY:Finissage «Bachlauf»
DESCRIPTION:Die Ausstellung Bachlauf schliesst ihre Tore. Um 16 Uhr stossen wir gemeinsam auf den grossen Erfolg und den Einsatz aller Beteiligten an. Wir freuen uns auf Ihren Besuch!
URL:https://susthorgen.ch/event/finissage-bachlauf/
LOCATION:Sust Museum Horgen\, Bahnhofstrasse 27\, Horgen\, Zürich\, 8810
ATTACH;FMTTYPE=image/jpeg:https://susthorgen.ch/wp-content/uploads/2023/01/Bergweiher-1960_E_31738-scaled.jpg
END:VEVENT
END:VCALENDAR