BEGIN:VCALENDAR
VERSION:2.0
PRODID:-//Sust Museum Horgen - ECPv6.15.20//NONSGML v1.0//EN
CALSCALE:GREGORIAN
METHOD:PUBLISH
X-WR-CALNAME:Sust Museum Horgen
X-ORIGINAL-URL:https://susthorgen.ch
X-WR-CALDESC:Veranstaltungen für Sust Museum Horgen
REFRESH-INTERVAL;VALUE=DURATION:PT1H
X-Robots-Tag:noindex
X-PUBLISHED-TTL:PT1H
BEGIN:VTIMEZONE
TZID:Europe/Zurich
BEGIN:DAYLIGHT
TZOFFSETFROM:+0100
TZOFFSETTO:+0200
TZNAME:CEST
DTSTART:20220327T010000
END:DAYLIGHT
BEGIN:STANDARD
TZOFFSETFROM:+0200
TZOFFSETTO:+0100
TZNAME:CET
DTSTART:20221030T010000
END:STANDARD
BEGIN:DAYLIGHT
TZOFFSETFROM:+0100
TZOFFSETTO:+0200
TZNAME:CEST
DTSTART:20230326T010000
END:DAYLIGHT
BEGIN:STANDARD
TZOFFSETFROM:+0200
TZOFFSETTO:+0100
TZNAME:CET
DTSTART:20231029T010000
END:STANDARD
BEGIN:DAYLIGHT
TZOFFSETFROM:+0100
TZOFFSETTO:+0200
TZNAME:CEST
DTSTART:20240331T010000
END:DAYLIGHT
BEGIN:STANDARD
TZOFFSETFROM:+0200
TZOFFSETTO:+0100
TZNAME:CET
DTSTART:20241027T010000
END:STANDARD
END:VTIMEZONE
BEGIN:VEVENT
DTSTART;TZID=Europe/Zurich:20230405T200000
DTEND;TZID=Europe/Zurich:20230406T010000
DTSTAMP:20260422T132303
CREATED:20230317T072120Z
LAST-MODIFIED:20230317T073516Z
UID:660-1680724800-1680742800@susthorgen.ch
SUMMARY:Vernissage Sonderausstellung Bachlauf
DESCRIPTION:Am 5. April laden wir herzlich zur Eröffnung der ersten ortsgeschichtlichen Sonderausstellung in der renovierten Sust. Wir freuen uns auf Ihren Besuch! \n\n\n\nFlyer BachlaufHerunterladen
URL:https://susthorgen.ch/event/vernissage-sonderausstellung-bachlauf/
LOCATION:Sust Museum Horgen\, Bahnhofstrasse 27\, Horgen\, Zürich\, 8810
ATTACH;FMTTYPE=image/jpeg:https://susthorgen.ch/wp-content/uploads/2023/03/A5_Flyer_Bachlauf_VS.jpeg
END:VEVENT
END:VCALENDAR