BEGIN:VCALENDAR
VERSION:2.0
PRODID:-//Sust Museum Horgen - ECPv6.15.20//NONSGML v1.0//EN
CALSCALE:GREGORIAN
METHOD:PUBLISH
X-ORIGINAL-URL:https://susthorgen.ch
X-WR-CALDESC:Veranstaltungen für Sust Museum Horgen
REFRESH-INTERVAL;VALUE=DURATION:PT1H
X-Robots-Tag:noindex
X-PUBLISHED-TTL:PT1H
BEGIN:VTIMEZONE
TZID:Europe/Zurich
BEGIN:DAYLIGHT
TZOFFSETFROM:+0100
TZOFFSETTO:+0200
TZNAME:CEST
DTSTART:20220327T010000
END:DAYLIGHT
BEGIN:STANDARD
TZOFFSETFROM:+0200
TZOFFSETTO:+0100
TZNAME:CET
DTSTART:20221030T010000
END:STANDARD
BEGIN:DAYLIGHT
TZOFFSETFROM:+0100
TZOFFSETTO:+0200
TZNAME:CEST
DTSTART:20230326T010000
END:DAYLIGHT
BEGIN:STANDARD
TZOFFSETFROM:+0200
TZOFFSETTO:+0100
TZNAME:CET
DTSTART:20231029T010000
END:STANDARD
BEGIN:DAYLIGHT
TZOFFSETFROM:+0100
TZOFFSETTO:+0200
TZNAME:CEST
DTSTART:20240331T010000
END:DAYLIGHT
BEGIN:STANDARD
TZOFFSETFROM:+0200
TZOFFSETTO:+0100
TZNAME:CET
DTSTART:20241027T010000
END:STANDARD
END:VTIMEZONE
BEGIN:VEVENT
DTSTART;TZID=Europe/Zurich:20230201T193000
DTEND;TZID=Europe/Zurich:20230201T203000
DTSTAMP:20260422T165020
CREATED:20221107T151731Z
LAST-MODIFIED:20221107T151818Z
UID:590-1675279800-1675283400@susthorgen.ch
SUMMARY:Depot-Führung
DESCRIPTION:Wir nehmen Sie mit auf eine Zeitreise in unser Depot\, wo bekannte und weniger bekannte Zeugen aus Horgens Vergangenheit lagern. Auf einem kurzweiligen Rundgang  erfahren sie\, warum unser Depot zu klein\, bzw. die Sammlung zu gross ist\, warum es ein Sammlungskonzept braucht\, mit welchen Herausforderungen wir hinter den Museumsbühnen konfrontiert sind und was es mit dem Wort Deakzession auf sich hat.
URL:https://susthorgen.ch/event/depot-fuehrung/
LOCATION:Zürich
ATTACH;FMTTYPE=image/jpeg:https://susthorgen.ch/wp-content/uploads/2022/05/Sammlung-scaled.jpg
END:VEVENT
END:VCALENDAR