BEGIN:VCALENDAR
VERSION:2.0
PRODID:-//Sust Museum Horgen - ECPv6.15.20//NONSGML v1.0//EN
CALSCALE:GREGORIAN
METHOD:PUBLISH
X-ORIGINAL-URL:https://susthorgen.ch
X-WR-CALDESC:Veranstaltungen für Sust Museum Horgen
REFRESH-INTERVAL;VALUE=DURATION:PT1H
X-Robots-Tag:noindex
X-PUBLISHED-TTL:PT1H
BEGIN:VTIMEZONE
TZID:Europe/Zurich
BEGIN:DAYLIGHT
TZOFFSETFROM:+0100
TZOFFSETTO:+0200
TZNAME:CEST
DTSTART:20210328T010000
END:DAYLIGHT
BEGIN:STANDARD
TZOFFSETFROM:+0200
TZOFFSETTO:+0100
TZNAME:CET
DTSTART:20211031T010000
END:STANDARD
BEGIN:DAYLIGHT
TZOFFSETFROM:+0100
TZOFFSETTO:+0200
TZNAME:CEST
DTSTART:20220327T010000
END:DAYLIGHT
BEGIN:STANDARD
TZOFFSETFROM:+0200
TZOFFSETTO:+0100
TZNAME:CET
DTSTART:20221030T010000
END:STANDARD
BEGIN:DAYLIGHT
TZOFFSETFROM:+0100
TZOFFSETTO:+0200
TZNAME:CEST
DTSTART:20230326T010000
END:DAYLIGHT
BEGIN:STANDARD
TZOFFSETFROM:+0200
TZOFFSETTO:+0100
TZNAME:CET
DTSTART:20231029T010000
END:STANDARD
END:VTIMEZONE
BEGIN:VEVENT
DTSTART;TZID=Europe/Zurich:20220925T160000
DTEND;TZID=Europe/Zurich:20220925T180000
DTSTAMP:20260423T075845
CREATED:20220713T091149Z
LAST-MODIFIED:20220713T091149Z
UID:397-1664121600-1664128800@susthorgen.ch
SUMMARY:Sust(ainable) Fashion
DESCRIPTION:Kleider-Atelier zum Mitmachen. Lass dich inspirieren von unserer Sammlung und werde kreativ. Aus allerlei verschiedenen Recycling-Materialien gestaltest du dein eigenes fantastisches Kleid. Das Atelier ist frei zugänglich\, wenn das Museum offen ist.
URL:https://susthorgen.ch/event/sustainable-fashion-3/
LOCATION:Zürich
ATTACH;FMTTYPE=image/jpeg:https://susthorgen.ch/wp-content/uploads/2022/07/OSH_000000280_002-scaled-e1657710400680.jpg
END:VEVENT
BEGIN:VEVENT
DTSTART;TZID=Europe/Zurich:20220925T160000
DTEND;TZID=Europe/Zurich:20220925T180000
DTSTAMP:20260423T075845
CREATED:20220713T105626Z
LAST-MODIFIED:20220713T105710Z
UID:431-1664121600-1664128800@susthorgen.ch
SUMMARY:Pop-Up Café au Musée
DESCRIPTION:Abkühlung gefällig? Über die Sommermonate eröffnen wir in der Sust ein kleines Pop-Up Selbstbedienungskaffee.
URL:https://susthorgen.ch/event/pop-up-cafe-au-musee-4/
LOCATION:Sust Museum Horgen\, Bahnhofstrasse 27\, Horgen\, Zürich\, 8810
ATTACH;FMTTYPE=image/jpeg:https://susthorgen.ch/wp-content/uploads/2022/07/pexels-maria-orlova-4946392-1-scaled-e1657717148764.jpg
END:VEVENT
END:VCALENDAR