BEGIN:VCALENDAR
VERSION:2.0
PRODID:-//Sust Museum Horgen - ECPv6.15.20//NONSGML v1.0//EN
CALSCALE:GREGORIAN
METHOD:PUBLISH
X-ORIGINAL-URL:https://susthorgen.ch
X-WR-CALDESC:Veranstaltungen für Sust Museum Horgen
REFRESH-INTERVAL;VALUE=DURATION:PT1H
X-Robots-Tag:noindex
X-PUBLISHED-TTL:PT1H
BEGIN:VTIMEZONE
TZID:Europe/Zurich
BEGIN:DAYLIGHT
TZOFFSETFROM:+0100
TZOFFSETTO:+0200
TZNAME:CEST
DTSTART:20210328T010000
END:DAYLIGHT
BEGIN:STANDARD
TZOFFSETFROM:+0200
TZOFFSETTO:+0100
TZNAME:CET
DTSTART:20211031T010000
END:STANDARD
BEGIN:DAYLIGHT
TZOFFSETFROM:+0100
TZOFFSETTO:+0200
TZNAME:CEST
DTSTART:20220327T010000
END:DAYLIGHT
BEGIN:STANDARD
TZOFFSETFROM:+0200
TZOFFSETTO:+0100
TZNAME:CET
DTSTART:20221030T010000
END:STANDARD
BEGIN:DAYLIGHT
TZOFFSETFROM:+0100
TZOFFSETTO:+0200
TZNAME:CEST
DTSTART:20230326T010000
END:DAYLIGHT
BEGIN:STANDARD
TZOFFSETFROM:+0200
TZOFFSETTO:+0100
TZNAME:CET
DTSTART:20231029T010000
END:STANDARD
END:VTIMEZONE
BEGIN:VEVENT
DTSTART;TZID=Europe/Zurich:20220911T160000
DTEND;TZID=Europe/Zurich:20220911T180000
DTSTAMP:20260424T071005
CREATED:20220419T104454Z
LAST-MODIFIED:20220607T104851Z
UID:170-1662912000-1662919200@susthorgen.ch
SUMMARY:Vom Zollhaus zum Museum
DESCRIPTION:Seit über 500 Jahren trotzt die Sust Wind und Wellen. Sie überstand Kriege\, ein Eisenbahnunglück und den Seeabbruch. Die beim Umbau 2020 freigelegten Strukturen erzählen die bewegte Geschichte von der Nutzung als Sust bis zum Museum. Der frühere Warenumschlagplatz wurde zu einem Ort der Freizeit\, was sich auch in der Architektur abzeichnet. Rundgang durch das Gebäude mit Blick auf die baugeschichtlichen Fenster.  \n\n\n\nFührung: 14:00 bis 14:45Führung: 15:00 bis 15:45
URL:https://susthorgen.ch/event/vom-zollhaus-zum-museum/
LOCATION:Sust Museum Horgen\, Bahnhofstrasse 27\, Horgen\, Zürich\, 8810
ATTACH;FMTTYPE=image/jpeg:https://susthorgen.ch/wp-content/uploads/2022/04/Pax-scaled.jpg
END:VEVENT
BEGIN:VEVENT
DTSTART;TZID=Europe/Zurich:20220911T140000
DTEND;TZID=Europe/Zurich:20220911T160000
DTSTAMP:20260424T071005
CREATED:20220713T090944Z
LAST-MODIFIED:20220713T091418Z
UID:385-1662904800-1662912000@susthorgen.ch
SUMMARY:Sust(ainable) Fashion
DESCRIPTION:Kleider-Atelier zum Mitmachen. Lass dich inspirieren von unserer Sammlung und werde kreativ. Aus allerlei verschiedenen Recycling-Materialien gestaltest du dein eigenes fantastisches Kleid. Das Atelier ist frei zugänglich\, wenn das Museum offen ist.
URL:https://susthorgen.ch/event/sustainable-fashion-2/
LOCATION:Sust Museum Horgen\, Bahnhofstrasse 27\, Horgen\, Zürich\, 8810
ATTACH;FMTTYPE=image/jpeg:https://susthorgen.ch/wp-content/uploads/2022/07/OSH_000000280_002-scaled-e1657710400680.jpg
END:VEVENT
BEGIN:VEVENT
DTSTART;TZID=Europe/Zurich:20220911T160000
DTEND;TZID=Europe/Zurich:20220911T180000
DTSTAMP:20260424T071005
CREATED:20220713T105516Z
LAST-MODIFIED:20220713T105748Z
UID:429-1662912000-1662919200@susthorgen.ch
SUMMARY:Pop-Up Café au Musée
DESCRIPTION:Abkühlung gefällig? Über die Sommermonate eröffnen wir in der Sust ein kleines Pop-Up Selbstbedienungskaffee.
URL:https://susthorgen.ch/event/pop-up-cafe-au-musee-3/
LOCATION:Sust Museum Horgen\, Bahnhofstrasse 27\, Horgen\, Zürich\, 8810
ATTACH;FMTTYPE=image/jpeg:https://susthorgen.ch/wp-content/uploads/2022/07/pexels-maria-orlova-4946392-1-scaled-e1657717148764.jpg
END:VEVENT
END:VCALENDAR