BEGIN:VCALENDAR
VERSION:2.0
PRODID:-//Sust Museum Horgen - ECPv6.15.20//NONSGML v1.0//EN
CALSCALE:GREGORIAN
METHOD:PUBLISH
X-ORIGINAL-URL:https://susthorgen.ch
X-WR-CALDESC:Veranstaltungen für Sust Museum Horgen
REFRESH-INTERVAL;VALUE=DURATION:PT1H
X-Robots-Tag:noindex
X-PUBLISHED-TTL:PT1H
BEGIN:VTIMEZONE
TZID:Europe/Zurich
BEGIN:DAYLIGHT
TZOFFSETFROM:+0100
TZOFFSETTO:+0200
TZNAME:CEST
DTSTART:20210328T010000
END:DAYLIGHT
BEGIN:STANDARD
TZOFFSETFROM:+0200
TZOFFSETTO:+0100
TZNAME:CET
DTSTART:20211031T010000
END:STANDARD
BEGIN:DAYLIGHT
TZOFFSETFROM:+0100
TZOFFSETTO:+0200
TZNAME:CEST
DTSTART:20220327T010000
END:DAYLIGHT
BEGIN:STANDARD
TZOFFSETFROM:+0200
TZOFFSETTO:+0100
TZNAME:CET
DTSTART:20221030T010000
END:STANDARD
BEGIN:DAYLIGHT
TZOFFSETFROM:+0100
TZOFFSETTO:+0200
TZNAME:CEST
DTSTART:20230326T010000
END:DAYLIGHT
BEGIN:STANDARD
TZOFFSETFROM:+0200
TZOFFSETTO:+0100
TZNAME:CET
DTSTART:20231029T010000
END:STANDARD
END:VTIMEZONE
BEGIN:VEVENT
DTSTART;TZID=Europe/Zurich:20220424T160000
DTEND;TZID=Europe/Zurich:20220424T180000
DTSTAMP:20260424T222543
CREATED:20220320T145814Z
LAST-MODIFIED:20220420T163817Z
UID:92-1650816000-1650823200@susthorgen.ch
SUMMARY:Neueröffnung
DESCRIPTION:Kaffee\, Kuchen und Tee ab 14 Uhr sowie Konzert mit dem chorhorgen ab 15.30 Uhr.
URL:https://susthorgen.ch/event/neueroeffnung/
LOCATION:Sust Museum Horgen\, Bahnhofstrasse 27\, Horgen\, Zürich\, 8810
ATTACH;FMTTYPE=image/jpeg:https://susthorgen.ch/wp-content/uploads/2022/03/Sust-neues-Bild-scaled.jpg
END:VEVENT
END:VCALENDAR